BEGIN:VCALENDAR
VERSION:2.0
PRODID:-//St Columba and the Northern Saints Church - ECPv6.15.12.2//NONSGML v1.0//EN
CALSCALE:GREGORIAN
METHOD:PUBLISH
X-ORIGINAL-URL:https://stcolumbascorby.org.uk
X-WR-CALDESC:Events for St Columba and the Northern Saints Church
REFRESH-INTERVAL;VALUE=DURATION:PT1H
X-Robots-Tag:noindex
X-PUBLISHED-TTL:PT1H
BEGIN:VTIMEZONE
TZID:Europe/London
BEGIN:DAYLIGHT
TZOFFSETFROM:+0000
TZOFFSETTO:+0100
TZNAME:BST
DTSTART:20240331T010000
END:DAYLIGHT
BEGIN:STANDARD
TZOFFSETFROM:+0100
TZOFFSETTO:+0000
TZNAME:GMT
DTSTART:20241027T010000
END:STANDARD
BEGIN:DAYLIGHT
TZOFFSETFROM:+0000
TZOFFSETTO:+0100
TZNAME:BST
DTSTART:20250330T010000
END:DAYLIGHT
BEGIN:STANDARD
TZOFFSETFROM:+0100
TZOFFSETTO:+0000
TZNAME:GMT
DTSTART:20251026T010000
END:STANDARD
BEGIN:DAYLIGHT
TZOFFSETFROM:+0000
TZOFFSETTO:+0100
TZNAME:BST
DTSTART:20260329T010000
END:DAYLIGHT
BEGIN:STANDARD
TZOFFSETFROM:+0100
TZOFFSETTO:+0000
TZNAME:GMT
DTSTART:20261025T010000
END:STANDARD
END:VTIMEZONE
BEGIN:VEVENT
DTSTART;TZID=Europe/London:20251224T163000
DTEND;TZID=Europe/London:20251224T173000
DTSTAMP:20260423T022732
CREATED:20251114T172831Z
LAST-MODIFIED:20251114T172831Z
UID:6427-1766593800-1766597400@stcolumbascorby.org.uk
SUMMARY:Christingle Service
DESCRIPTION:
URL:https://stcolumbascorby.org.uk/event/christingle-service/
LOCATION:St Columba and the Northern Saints Church\, Studfall Avenue\, Corby\, NN17 1LG\, United Kingdom
CATEGORIES:Children,Christmas Service,Young People
END:VEVENT
BEGIN:VEVENT
DTSTART;TZID=Europe/London:20251224T231500
DTEND;TZID=Europe/London:20251224T233000
DTSTAMP:20260423T022732
CREATED:20251114T172933Z
LAST-MODIFIED:20251114T173427Z
UID:6429-1766618100-1766619000@stcolumbascorby.org.uk
SUMMARY:Midnight Communion
DESCRIPTION:Please note: starts at 11:30 pm\, lasts for about 1 hour
URL:https://stcolumbascorby.org.uk/event/midnight-communion/
LOCATION:St Columba and the Northern Saints Church\, Studfall Avenue\, Corby\, NN17 1LG\, United Kingdom
CATEGORIES:Christmas Service
END:VEVENT
END:VCALENDAR