BEGIN:VCALENDAR
VERSION:2.0
PRODID:-//St Columba and the Northern Saints Church - ECPv6.15.12.2//NONSGML v1.0//EN
CALSCALE:GREGORIAN
METHOD:PUBLISH
X-ORIGINAL-URL:https://stcolumbascorby.org.uk
X-WR-CALDESC:Events for St Columba and the Northern Saints Church
REFRESH-INTERVAL;VALUE=DURATION:PT1H
X-Robots-Tag:noindex
X-PUBLISHED-TTL:PT1H
BEGIN:VTIMEZONE
TZID:Europe/London
BEGIN:DAYLIGHT
TZOFFSETFROM:+0000
TZOFFSETTO:+0100
TZNAME:BST
DTSTART:20240331T010000
END:DAYLIGHT
BEGIN:STANDARD
TZOFFSETFROM:+0100
TZOFFSETTO:+0000
TZNAME:GMT
DTSTART:20241027T010000
END:STANDARD
BEGIN:DAYLIGHT
TZOFFSETFROM:+0000
TZOFFSETTO:+0100
TZNAME:BST
DTSTART:20250330T010000
END:DAYLIGHT
BEGIN:STANDARD
TZOFFSETFROM:+0100
TZOFFSETTO:+0000
TZNAME:GMT
DTSTART:20251026T010000
END:STANDARD
BEGIN:DAYLIGHT
TZOFFSETFROM:+0000
TZOFFSETTO:+0100
TZNAME:BST
DTSTART:20260329T010000
END:DAYLIGHT
BEGIN:STANDARD
TZOFFSETFROM:+0100
TZOFFSETTO:+0000
TZNAME:GMT
DTSTART:20261025T010000
END:STANDARD
END:VTIMEZONE
BEGIN:VEVENT
DTSTART;TZID=Europe/London:20251221T103000
DTEND;TZID=Europe/London:20251221T120000
DTSTAMP:20260423T022733
CREATED:20251114T172533Z
LAST-MODIFIED:20251114T172533Z
UID:6423-1766313000-1766318400@stcolumbascorby.org.uk
SUMMARY:Nativity Service
DESCRIPTION:
URL:https://stcolumbascorby.org.uk/event/nativity-service/
LOCATION:St Columba and the Northern Saints Church\, Studfall Avenue\, Corby\, NN17 1LG\, United Kingdom
CATEGORIES:Christmas Service
END:VEVENT
BEGIN:VEVENT
DTSTART;TZID=Europe/London:20251221T180000
DTEND;TZID=Europe/London:20251221T190000
DTSTAMP:20260423T022733
CREATED:20251114T172711Z
LAST-MODIFIED:20251114T172711Z
UID:6425-1766340000-1766343600@stcolumbascorby.org.uk
SUMMARY:Carols by Candlelight
DESCRIPTION:
URL:https://stcolumbascorby.org.uk/event/carols-by-candlelight/
LOCATION:St Columba and the Northern Saints Church\, Studfall Avenue\, Corby\, NN17 1LG\, United Kingdom
CATEGORIES:Christmas Service
END:VEVENT
END:VCALENDAR